BEGIN:VCALENDAR
VERSION:2.0
PRODID:-//eventon.com NONSGML v1.0//EN
CALSCALE:GREGORIAN
METHOD:PUBLISH
BEGIN:VEVENT
UID:69e4d92e2384a
DTSTAMP:20260419T133126Z
DTSTART:20251128T180000Z
DTEND:20251128T110000Z
LOCATION:
SUMMARY:Skautský sabat Vol.1
DESCRIPTION:Skautský sabat Vol.1\nhttps://ronin-band.cz/events/skautsky-sa
 bat-vol-1/
URL:https://ronin-band.cz/events/skautsky-sabat-vol-1/
END:VEVENT
BEGIN:VEVENT
UID:69e4d92e2394f
DTSTAMP:20260419T133126Z
DTSTART:20250927T160000Z
DTEND:20250927T200000Z
LOCATION:
SUMMARY:Rónin & Hallodrn v AIONu
DESCRIPTION:Rónin & Hallodrn v AIONu\nhttps://ronin-band.cz/events/ronin-h
 allodrn-v-aionu/
URL:https://ronin-band.cz/events/ronin-hallodrn-v-aionu/
END:VEVENT
BEGIN:VEVENT
UID:69e4d92e23a4b
DTSTAMP:20260419T133126Z
DTSTART:20250726T150000Z
DTEND:20250726T100000Z
LOCATION:
SUMMARY:Chodovický Pivináč
DESCRIPTION:Chodovický Pivináč\nhttps://ronin-band.cz/events/chodovicky-
 pivinac/
URL:https://ronin-band.cz/events/chodovicky-pivinac/
END:VEVENT
BEGIN:VEVENT
UID:69e4d92e23b4f
DTSTAMP:20260419T133126Z
DTSTART:20250801T160000Z
DTEND:20250801T200000Z
LOCATION:
SUMMARY:Porcinkule – park
DESCRIPTION:Porcinkule &#8211; park\nhttps://ronin-band.cz/events/porcinkul
 e-park/
URL:https://ronin-band.cz/events/porcinkule-park/
END:VEVENT
BEGIN:VEVENT
UID:69e4d92e23c15
DTSTAMP:20260419T133126Z
DTSTART:20250830T140000Z
DTEND:20250830T100000Z
LOCATION:
SUMMARY:Zavírák Mezivrchy 2025
DESCRIPTION:Zavírák Mezivrchy 2025\nhttps://ronin-band.cz/events/zavirak-
 mezivrchy-2025/
URL:https://ronin-band.cz/events/zavirak-mezivrchy-2025/
END:VEVENT
BEGIN:VEVENT
UID:69e4d92e23d50
DTSTAMP:20260419T133126Z
DTSTART:20250410T111600Z
DTEND:20250410T111600Z
LOCATION:
SUMMARY:Zavírák Mezivrchy
DESCRIPTION:Zavírák Mezivrchy\nhttps://ronin-band.cz/?post_type=ajde_even
 ts&p=1848
URL:https://ronin-band.cz/?post_type=ajde_events&p=1848
END:VEVENT
BEGIN:VEVENT
UID:69e4d92e23e62
DTSTAMP:20260419T133126Z
DTSTART:20250410T180000Z
DTEND:20250410T200000Z
LOCATION:
SUMMARY:Testovací koncert
DESCRIPTION:Testovací koncert\nhttps://ronin-band.cz/events/testovaci-konc
 ert/
URL:https://ronin-band.cz/events/testovaci-koncert/
END:VEVENT
BEGIN:VEVENT
UID:69e4d92e23f3d
DTSTAMP:20260419T133126Z
DTSTART:20240921T170000Z
DTEND:20240921T200000Z
LOCATION:
SUMMARY:AION
DESCRIPTION:AION\nhttps://ronin-band.cz/events/aion/
URL:https://ronin-band.cz/events/aion/
END:VEVENT
BEGIN:VEVENT
UID:69e4d92e2400a
DTSTAMP:20260419T133126Z
DTSTART:20250517T160000Z
DTEND:20250517T215000Z
LOCATION:
SUMMARY:Festival poesie
DESCRIPTION:Festival poesie\nhttps://ronin-band.cz/events/festival-poesie/
URL:https://ronin-band.cz/events/festival-poesie/
END:VEVENT
END:VCALENDAR